BEGIN:VCALENDAR
VERSION:2.0
PRODID:-//ChamberMaster//Event Calendar 2.0//EN
METHOD:PUBLISH
X-PUBLISHED-TTL:P3D
REFRESH-INTERVAL:P3D
CALSCALE:GREGORIAN
BEGIN:VEVENT
DTSTART;VALUE=DATE:20120501
DTEND;VALUE=DATE:20120502
TRANSP:TRANSPARENT
X-MICROSOFT-CDO-ALLDAYEVENT:TRUE
SUMMARY:Visiting Artist at Stifel and Capra - All Month!
DESCRIPTION:Stifel & Capra is pleased to welcome May visiting artist Steve Klass. Klass is the artist/owner of Klassic Kreatures\, and will be working at the studio upstairs and showing his creations throughout the month of May. Stifel & Capra is located at 260 W. Broad St.\, Falls Church\, VA 22046 and is open Monday through Saturday\, 10am-5pm\, open Sunday\, 12noon- 5pm.\n\n\n\nStarting in 1986\, Steve Klass began turning his doodles into pins\, magnets and clocks. Klassic Kreatures was developed over the past twenty-six years as a result of those early designs. The animals are varied and the colors are vibrant. Steve says that his intent is to make people smile when they see his work. The world he says\, "needs more smiles!"
X-ALT-DESC;FMTTYPE=text/html:Stifel &amp\; Capra is pleased to welcome May visiting artist Steve Klass. Klass is the artist/owner of Klassic Kreatures\, and will be working at the studio upstairs and showing his creations throughout the month of May. Stifel &amp\; Capra is located at 260 W. Broad St.\, Falls Church\, VA 22046 and is open Monday through Saturday\, 10am-5pm\, open Sunday\, 12noon- 5pm.<br />\n<br />\nStarting in 1986\, Steve Klass began turning his doodles into pins\, magnets and clocks. Klassic Kreatures was developed over the past twenty-six years as a result of those early designs. The animals are varied and the colors are vibrant. Steve says that his intent is to make people smile when they see his work. The world he says\, &quot\;needs more smiles!&quot\;<br />\n&nbsp\;
LOCATION:Stifel & Capra\, Upstairs Studio\, 260 W. Broad St. Falls Church\, VA 22046
UID:e.1250.250
SEQUENCE:3
DTSTAMP:20260425T165322Z
URL:https://business.fallschurchchamber.org/events/details/visiting-artist-at-stifel-and-capra-all-month-05-01-2012-250
END:VEVENT

END:VCALENDAR
