BEGIN:VCALENDAR
VERSION:2.0
PRODID:-//ChamberMaster//Event Calendar 2.0//EN
METHOD:PUBLISH
X-PUBLISHED-TTL:P3D
REFRESH-INTERVAL:P3D
CALSCALE:GREGORIAN
BEGIN:VEVENT
DTSTART:20120705T230000Z
DTEND:20120706T010000Z
X-MICROSOFT-CDO-ALLDAYEVENT:FALSE
SUMMARY:VPIS Concert in the Park
DESCRIPTION:The Village Preservation and Improvement Society is proud to offer the 20th season of Summer Concerts in Cherry Hill Park.  Co-sponsored by the City of Falls Church Recreation and Parks Department\, the concerts take place on seven Thursdays this summer at 7PM.  Bands with a local connection are always featured\, and Falls Church Arts members also present their creations. \n\n	\n\n	The Tony Martucci Quartet  Falls Church's Tony Martucci and his friends bring jazz back to Cherry Hill Park.  Sit back and enjoy!
X-ALT-DESC;FMTTYPE=text/html:<div style="color: gray">\n	The Village Preservation and Improvement Society is proud to&nbsp\;offer the 20th season of Summer Concerts in Cherry Hill Park.&nbsp\;&nbsp\;Co-sponsored by the City of Falls Church Recreation and Parks Department\, the concerts take place on seven Thursdays this summer at 7PM.&nbsp\;&nbsp\;Bands with a local connection are always featured\, and Falls Church Arts members also present their creations.&nbsp\;<br />\n	<br />\n	The Tony Martucci Quartet&nbsp\;&nbsp\;Falls Church&#39\;s Tony Martucci and his friends bring jazz back to Cherry Hill Park.&nbsp\;&nbsp\;Sit back and enjoy!</div>\n
LOCATION:Cherry Hill Park 312 Park Avenue Falls Church
UID:e.1250.300
SEQUENCE:3
DTSTAMP:20260425T221624Z
URL:https://business.fallschurchchamber.org/events/details/vpis-concert-in-the-park-07-05-2012-300
END:VEVENT

END:VCALENDAR
