BEGIN:VCALENDAR
VERSION:2.0
PRODID:-//ChamberMaster//Event Calendar 2.0//EN
METHOD:PUBLISH
X-PUBLISHED-TTL:P3D
REFRESH-INTERVAL:P3D
CALSCALE:GREGORIAN
BEGIN:VEVENT
DTSTART:20110728T230000Z
DTEND:20110729T000000Z
X-MICROSOFT-CDO-ALLDAYEVENT:FALSE
SUMMARY:VPIS Concerts in the Park
DESCRIPTION:Concerts in the Park take place in Cherry Hill Park at 7 pm every Thursday through August 4th.\n\n\n\nThis Thurs\, July 28 will feature Mama Tried (Randy Barrett and Dede Wyland).\n\n\n\nThe concerts are co-sponsored by VPIS and the City of FC.\n\n\n\nUp next week - Big Tow (who performed at the Chamber's Mini-Golf event 2 years ago).
X-ALT-DESC;FMTTYPE=text/html:<span style="font-size: 12px">Concerts in the Park take place in Cherry Hill Park at 7 pm every Thursday through August 4th.<br />\n<br />\nThis <em><strong>Thurs\, July 28</strong></em>&nbsp\;will feature Mama Tried (Randy Barrett and Dede Wyland).<br />\n<br />\nThe concerts are co-sponsored by VPIS and the City of FC.<br />\n<br />\nUp next week - Big Tow (who performed at the Chamber&#39\;s Mini-Golf event 2 years ago).&nbsp\;</span><span style="font-size: 12pt"><span _fck_bookmark="1" style="display: none">&nbsp\;</span></span>
LOCATION:Cherry Hill Park
UID:e.1250.3
SEQUENCE:3
DTSTAMP:20260423T031619Z
URL:https://business.fallschurchchamber.org/events/details/vpis-concerts-in-the-park-07-28-2011-3
END:VEVENT

END:VCALENDAR
