BEGIN:VCALENDAR
VERSION:2.0
PRODID:-//ChamberMaster//Event Calendar 2.0//EN
METHOD:PUBLISH
X-PUBLISHED-TTL:P3D
REFRESH-INTERVAL:P3D
CALSCALE:GREGORIAN
BEGIN:VEVENT
DTSTART;VALUE=DATE:20110903
DTEND;VALUE=DATE:20110904
TRANSP:TRANSPARENT
X-MICROSOFT-CDO-ALLDAYEVENT:TRUE
SUMMARY:W&OD Race and Concert
DESCRIPTION:W&OD Race & Concert - Dominion Power and Trailmix are helping the NVA Park Authority celebrate the W&OD Trail with a festival featuring a biking/running event and live music by headliner Gloriana. Sat\, Sept 3\, in Ashburn. Visit www.nvrpa.org for details.
X-ALT-DESC;FMTTYPE=text/html:<p style="margin-top: 0px\; margin-bottom: 0px">\n	<span style="font-family: arial"><strong>W&amp\;OD Race &amp\; Concert</strong> - <strong>Dominion Power</strong> and Trailmix are helping the <strong>NVA Park Authority</strong> celebrate the W&amp\;OD Trail with a festival&nbsp\;featuring a biking/running event and live music by&nbsp\;headliner Gloriana. Sat\, Sept 3\, in Ashburn. Visit </span><a href="http://r20.rs6.net/tn.jsp?llr=mkmuencab&amp\;et=1107389157990&amp\;s=0&amp\;e=001Ej_ws-m7M_EqxEzzvir52ZVie7RioRlIqAulllNvZevCqOOlDQVgWsemivjF0v5lwfBQ-3f__Rree_ZZwtYJLxWwnx3qXF_q" shape="rect" target="_blank"><span style="font-family: arial"><font color="#348900">www.nvrpa.org</font></span></a><span style="font-family: arial"> for details.<span _fck_bookmark="1" style="display: none">&nbsp\;</span></span></p>\n
LOCATION:
UID:e.1250.21
SEQUENCE:3
DTSTAMP:20260423T044726Z
URL:https://business.fallschurchchamber.org/events/details/w-od-race-and-concert-09-03-2011-21
END:VEVENT

END:VCALENDAR
