BEGIN:VCALENDAR
VERSION:2.0
PRODID:-//ChamberMaster//Event Calendar 2.0//EN
METHOD:PUBLISH
X-PUBLISHED-TTL:P3D
REFRESH-INTERVAL:P3D
CALSCALE:GREGORIAN
BEGIN:VEVENT
DTSTART:20120226T160000Z
DTEND:20120226T200000Z
X-MICROSOFT-CDO-ALLDAYEVENT:FALSE
SUMMARY:Westin Weddings Bridal Showcase
DESCRIPTION:Say "I DO" to Westin Weddings Bridal Showcase\n\nOn February 26 from 11a-3p\, Westin Tyson Cornerinvites the brides of tomorrow to this one-of-a-kind event\, where you will be able to meet a well-regarded group of wedding professionals who will help you channel your creative energy into planning your forever. From wedding gown and tuxedo retailers\, florists and jewelers to live entertainment\, this is one day of bridal infotainment you won't want to miss.
X-ALT-DESC;FMTTYPE=text/html:<span style="font-size: 12pt"><span style="font-family: arial\, sans-serif">Say &quot\;I DO&quot\; to </span><a href="http://click.icptrack.com/icp/relay.php?r=1023657156&amp\;msgid=1685325&amp\;act=4ZZZ&amp\;c=398209&amp\;destination=http%3A%2F%2Fwww.westintysonscornerhotel.com%2Fbridal-showcase">Westin Weddings Bridal Showcase</a><br />\nOn February 26 from 11a-3p\, </span><a href="http://click.icptrack.com/icp/relay.php?r=1023657156&amp\;msgid=1685325&amp\;act=4ZZZ&amp\;c=398209&amp\;destination=http%3A%2F%2Fwww.westintysonscornerhotel.com%2Fweddingoverview">Westin Tyson Corner</a>invites the brides of tomorrow to this one-of-a-kind event\, where you will be able to meet a well-regarded group of wedding professionals who will help you channel your creative energy into planning your forever. From wedding gown and tuxedo retailers\, florists and jewelers to live entertainment\, this is one day of bridal infotainment you won&#39\;t want to miss.&nbsp\;
LOCATION:The Westin Tysons Corner 7801 Leesburg Pike Falls Church\, VA 22043
UID:e.1250.219
SEQUENCE:3
DTSTAMP:20260425T122107Z
URL:https://business.fallschurchchamber.org/events/details/westin-weddings-bridal-showcase-02-26-2012-219
END:VEVENT

END:VCALENDAR
