BEGIN:VCALENDAR
VERSION:2.0
PRODID:-//ChamberMaster//Event Calendar 2.0//EN
METHOD:PUBLISH
X-PUBLISHED-TTL:P3D
REFRESH-INTERVAL:P3D
CALSCALE:GREGORIAN
BEGIN:VEVENT
DTSTART:20120818T130000Z
DTEND:20120818T150000Z
X-MICROSOFT-CDO-ALLDAYEVENT:FALSE
SUMMARY:Will Artley\, Chef at Pizzeria Orso cooking demo at the FC Farmers Market
DESCRIPTION:The Farmers Market Chef demonstration will feature Will Artley creating a seasonal favorite with the produce in the farmers market. Will takes a time honored classic peach pie and turns it around by making it fried peach pie to accentuate the seasons stone fruit like peaches.  As with all Falls Church Farmers Market Demonstrations\, recipes and tasting will be available from 9am to 11am. Recipes can also be found at http://www.fallschurchfarmersmarketchef.com/
X-ALT-DESC;FMTTYPE=text/html:<div style="color: gray">\n	<span style="font-family: calibri\, sans-serif"><span style="font-size: medium"><span style="font-family: calibri">The Farmers Market Chef demonstration will feature Will Artley creating a seasonal favorite with the produce in the farmers market. Will takes a time honored classic peach pie and turns it around by making it fried peach pie to accentuate the seasons stone fruit like peaches. &nbsp\;As with all Falls Church Farmers Market Demonstrations\, recipes and tasting will be available from 9am to 11am. Recipes can also be found at </span></span></span><a href="http://www.fallschurchfarmersmarketchef.com/"><span style="font-family: calibri\, sans-serif"><span style="font-size: medium"><span style="font-family: calibri">http://www.fallschurchfarmersmarketchef.com/</span></span></span></a></div>\n
LOCATION:Falls Church Farmers Market 300 Park Avenue Falls Church
UID:e.1250.321
SEQUENCE:3
DTSTAMP:20260425T221911Z
URL:https://business.fallschurchchamber.org/events/details/will-artley-chef-at-pizzeria-orso-cooking-demo-at-the-fc-farmers-market-08-18-2012-321
END:VEVENT

END:VCALENDAR
