BEGIN:VCALENDAR
VERSION:2.0
PRODID:-//ChamberMaster//Event Calendar 2.0//EN
METHOD:PUBLISH
X-PUBLISHED-TTL:P3D
REFRESH-INTERVAL:P3D
CALSCALE:GREGORIAN
BEGIN:VEVENT
DTSTART:20161222T010000Z
DTEND:20161222T021500Z
X-MICROSOFT-CDO-ALLDAYEVENT:FALSE
SUMMARY:Winter Solstice Candlelight Practice
DESCRIPTION:Celebrate the Winter Solstice and your passion for yoga with us.\n\nThe changing of the seasons is one of the few natural phenomenon that marks the passing of time in a concrete way. Ground down with us as breathe and connect with this organic time change and gain a deeper awareness of ourselves and the changing of the seasons. All Levels are welcome!!
X-ALT-DESC;FMTTYPE=text/html:<span style="background-color:transparent\; font-family:source sans pro\,sans-serif\; font-size:16px">Celebrate the Winter Solstice and your passion for yoga with us.</span>\n\n<p><span style="background-color:transparent\; font-size:16px">The changing of the seasons is one of the few natural phenomenon that marks the passing of time in a concrete way. Ground down with us as breathe and connect with this organic time change and gain a deeper awareness of ourselves and the changing of the seasons. All Levels are welcome!!</span></p>\n
LOCATION:Dancing Mind 929 West Broad Street Falls Church\, VA 22046
UID:e.1250.14322
SEQUENCE:3
DTSTAMP:20260424T032729Z
URL:https://business.fallschurchchamber.org/events/details/winter-solstice-candlelight-practice-14322
END:VEVENT

END:VCALENDAR
